BEGIN:VCALENDAR
VERSION:2.0
PRODID:-//Austin Fun for Kids - ECPv6.15.20//NONSGML v1.0//EN
CALSCALE:GREGORIAN
METHOD:PUBLISH
X-ORIGINAL-URL:https://austinfunforkids.com
X-WR-CALDESC:Events for Austin Fun for Kids
REFRESH-INTERVAL;VALUE=DURATION:PT1H
X-Robots-Tag:noindex
X-PUBLISHED-TTL:PT1H
BEGIN:VTIMEZONE
TZID:America/Chicago
BEGIN:DAYLIGHT
TZOFFSETFROM:-0600
TZOFFSETTO:-0500
TZNAME:CDT
DTSTART:20240310T080000
END:DAYLIGHT
BEGIN:STANDARD
TZOFFSETFROM:-0500
TZOFFSETTO:-0600
TZNAME:CST
DTSTART:20241103T070000
END:STANDARD
BEGIN:DAYLIGHT
TZOFFSETFROM:-0600
TZOFFSETTO:-0500
TZNAME:CDT
DTSTART:20250309T080000
END:DAYLIGHT
BEGIN:STANDARD
TZOFFSETFROM:-0500
TZOFFSETTO:-0600
TZNAME:CST
DTSTART:20251102T070000
END:STANDARD
BEGIN:DAYLIGHT
TZOFFSETFROM:-0600
TZOFFSETTO:-0500
TZNAME:CDT
DTSTART:20260308T080000
END:DAYLIGHT
BEGIN:STANDARD
TZOFFSETFROM:-0500
TZOFFSETTO:-0600
TZNAME:CST
DTSTART:20261101T070000
END:STANDARD
END:VTIMEZONE
BEGIN:VEVENT
DTSTART;TZID=America/Chicago:20250927T093000
DTEND;TZID=America/Chicago:20250927T103000
DTSTAMP:20260419T140221
CREATED:20250215T162647Z
LAST-MODIFIED:20260126T015647Z
UID:10031940-1758965400-1758969000@austinfunforkids.com
SUMMARY:Storytime @ La Verde Park
DESCRIPTION:📚🌳 Storytime @ La Verde Park – Ignite Your Child’s Imagination!\n📍 Location:\n\nWhere: La Verde Park\, Kyle\, TX\n\n💸 Cost & Registration Info:\n\nCost: Free\nRegistration: No registration required – just show up and enjoy!\n\n🎈 What to Expect:\n\n📖 Engaging Story Readings: Enjoy interactive\, fun storytelling sessions that captivate young minds.\n🌟 Magical Outdoor Setting: Experience the charm of storytelling in the natural beauty of La Verde Park.\n👨‍👩‍👧 Family-Friendly Atmosphere: A perfect outing for kids and families to bond and spark creativity.\n\n💡 Why Attend?\n\nInspire Imagination: Let your child’s creativity soar with every story shared.\nEncourage a Love for Reading: Build early literacy skills in a fun and engaging way.\nCreate Lasting Memories: Enjoy quality family time in a welcoming community setting.\n\n👉 Join the Magic!\nBring your family and immerse yourself in an enchanting storytime experience at La Verde Park. Check the event page for details and join us for a session that promises to ignite imaginations and create unforgettable moments!
URL:https://austinfunforkids.com/event/storytime-la-verde-park/2025-09-27/
LOCATION:La Verde Park\, 3901 Burnham\, Kyle\, TX\, 78640.0\, United States
CATEGORIES:Free Event,Parks,Story Time
ATTACH;FMTTYPE=image/webp:https://austinfunforkids.com/wp-content/uploads/2025/02/Storytime-at-La-Verde.webp
END:VEVENT
END:VCALENDAR