BEGIN:VCALENDAR
VERSION:2.0
PRODID:-//Austin Fun for Kids - ECPv6.15.20//NONSGML v1.0//EN
CALSCALE:GREGORIAN
METHOD:PUBLISH
X-ORIGINAL-URL:https://austinfunforkids.com
X-WR-CALDESC:Events for Austin Fun for Kids
REFRESH-INTERVAL;VALUE=DURATION:PT1H
X-Robots-Tag:noindex
X-PUBLISHED-TTL:PT1H
BEGIN:VTIMEZONE
TZID:America/Chicago
BEGIN:DAYLIGHT
TZOFFSETFROM:-0600
TZOFFSETTO:-0500
TZNAME:CDT
DTSTART:20240310T080000
END:DAYLIGHT
BEGIN:STANDARD
TZOFFSETFROM:-0500
TZOFFSETTO:-0600
TZNAME:CST
DTSTART:20241103T070000
END:STANDARD
BEGIN:DAYLIGHT
TZOFFSETFROM:-0600
TZOFFSETTO:-0500
TZNAME:CDT
DTSTART:20250309T080000
END:DAYLIGHT
BEGIN:STANDARD
TZOFFSETFROM:-0500
TZOFFSETTO:-0600
TZNAME:CST
DTSTART:20251102T070000
END:STANDARD
BEGIN:DAYLIGHT
TZOFFSETFROM:-0600
TZOFFSETTO:-0500
TZNAME:CDT
DTSTART:20260308T080000
END:DAYLIGHT
BEGIN:STANDARD
TZOFFSETFROM:-0500
TZOFFSETTO:-0600
TZNAME:CST
DTSTART:20261101T070000
END:STANDARD
END:VTIMEZONE
BEGIN:VEVENT
DTSTART;TZID=America/Chicago:20250725T170000
DTEND;TZID=America/Chicago:20250725T220000
DTSTAMP:20260419T142820
CREATED:20250719T145344Z
LAST-MODIFIED:20260126T015742Z
UID:10029940-1753462800-1753480800@austinfunforkids.com
SUMMARY:Zeds Ice Cream Westlake Grand Opening
DESCRIPTION:Zeds Ice Cream opened a new location in Westlake\, and we’re celebrating with a grand opening next Friday\, July 25th\, from 5:00 to 10:00 PM. We’ll be giving away free ice cream all evening – no catch\, just a thank-you to the neighborhood and a sweet way to kick things off! \nEvent Details: \n\nWhat: Zeds Ice Cream Westlake Grand Opening\nWhen: Friday July 25th 5:00–10:00 PM CST\n\n\nWhere: 3736 Bee Caves Rd Suite 8\, West Lake Hills\, TX 78746\nWhat’s Happening: Free ice cream for all guests (1 small scoop + 1 topping per person)
URL:https://austinfunforkids.com/event/zeds-ice-cream-westlake-grand-opening/
LOCATION:Zeds Real Fruit Ice Cream\, 2727 Exposition Boulevard\, Austin\, TX\, 78703.0\, United States
ATTACH;FMTTYPE=image/png:https://austinfunforkids.com/wp-content/uploads/2025/07/Zeds-Free-Ice-Cream.png
END:VEVENT
END:VCALENDAR