BEGIN:VCALENDAR
VERSION:2.0
PRODID:-//Austin Fun for Kids - ECPv6.15.20//NONSGML v1.0//EN
CALSCALE:GREGORIAN
METHOD:PUBLISH
X-WR-CALNAME:Austin Fun for Kids
X-ORIGINAL-URL:https://austinfunforkids.com
X-WR-CALDESC:Events for Austin Fun for Kids
REFRESH-INTERVAL;VALUE=DURATION:PT1H
X-Robots-Tag:noindex
X-PUBLISHED-TTL:PT1H
BEGIN:VTIMEZONE
TZID:America/Chicago
BEGIN:DAYLIGHT
TZOFFSETFROM:-0600
TZOFFSETTO:-0500
TZNAME:CDT
DTSTART:20240310T080000
END:DAYLIGHT
BEGIN:STANDARD
TZOFFSETFROM:-0500
TZOFFSETTO:-0600
TZNAME:CST
DTSTART:20241103T070000
END:STANDARD
BEGIN:DAYLIGHT
TZOFFSETFROM:-0600
TZOFFSETTO:-0500
TZNAME:CDT
DTSTART:20250309T080000
END:DAYLIGHT
BEGIN:STANDARD
TZOFFSETFROM:-0500
TZOFFSETTO:-0600
TZNAME:CST
DTSTART:20251102T070000
END:STANDARD
BEGIN:DAYLIGHT
TZOFFSETFROM:-0600
TZOFFSETTO:-0500
TZNAME:CDT
DTSTART:20260308T080000
END:DAYLIGHT
BEGIN:STANDARD
TZOFFSETFROM:-0500
TZOFFSETTO:-0600
TZNAME:CST
DTSTART:20261101T070000
END:STANDARD
BEGIN:DAYLIGHT
TZOFFSETFROM:-0600
TZOFFSETTO:-0500
TZNAME:CDT
DTSTART:20270314T080000
END:DAYLIGHT
BEGIN:STANDARD
TZOFFSETFROM:-0500
TZOFFSETTO:-0600
TZNAME:CST
DTSTART:20271107T070000
END:STANDARD
END:VTIMEZONE
BEGIN:VEVENT
DTSTART;TZID=America/Chicago:20251004T100000
DTEND;TZID=America/Chicago:20260201T180000
DTSTAMP:20260419T081220
CREATED:20250912T182602Z
LAST-MODIFIED:20260126T015822Z
UID:10028500-1759572000-1769968800@austinfunforkids.com
SUMMARY:Fortlandia at the Wildflower Center
DESCRIPTION:🎉 Fortlandia Fun: Explore Custom-Designed Forts at the Wildflower Center!\nStep into the world of Fortlandia Wildflower Center\, where childhood wonder meets wildflower magic! From Oct. 4\, 2025 to Feb. 1\, 2026 (closed select holidays)\, build\, explore\, and play in a lineup of custom forts nestled in the Family Garden. \n📍 Location\n\nVenue: Lady Bird Johnson Wildflower Center\nAddress: 4801 La Crosse Avenue\, Austin\, TX\nDates: Oct. 4\, 2025 – Feb. 1\, 2026*\nClosed: Nov. 27\, Dec. 24–25\, Dec. 31 & Jan. 1\n\n💸 Cost & Registration Info\n\nAdmission: $15/adult\, $9/child (4–12)\, free for kids 3 & under\nMembers: Free entry for Wildflower Center members\nTickets: Purchase online in advance (recommended)\n\n🎈 What to Expect\n\n🏰 A forest of whimsical forts to crawl\, climb\, and conquer\n🌻 Gorgeous garden backdrop bursting with blooms\n🔦 Glow-in-the-dark forts on select evenings\n📸 Insta-worthy fortscapes perfect for family photos\n🎭 Creative play prompts to spark little imaginations\n\n💡 Why Attend\n\n🌿 Encourage outdoor play and connect with nature.\n👫 Perfect for adventurers of all ages.\n📷 Capture picture-perfect family moments.\n💭 Ignite creativity with open-ended fort fun.\n✨ Because at Fortlandia Wildflower Center\, every fort sparks playful wonder.\n\n🎉 Join the Celebration\nSecure your spot at Fortlandia Wildflower Center for an unforgettable family outing. Grab your little builders\, don your explorer hats\, and let the fort-tastic fun begin! \nDon’t wait—your secret hideout is calling! Book now and turn this season into a fortress of fun and memories!
URL:https://austinfunforkids.com/event/fortlandia-at-the-wildflower-center/
LOCATION:Lady Bird Johnson Wildflower Center\, 4801 La Crosse Avenue\, Austin\, TX\, 78739.0\, United States
CATEGORIES:Festivals,Outdoor Fun
ATTACH;FMTTYPE=image/png:https://austinfunforkids.com/wp-content/uploads/2025/09/IMG_4598.png
END:VEVENT
BEGIN:VEVENT
DTSTART;TZID=America/Chicago:20250730T090000
DTEND;TZID=America/Chicago:20250730T170000
DTSTAMP:20260419T081220
CREATED:20250530T165358Z
LAST-MODIFIED:20260216T152808Z
UID:10032614-1753866000-1753894800@austinfunforkids.com
SUMMARY:Free Wild Wednesdays at the Wildflower Center
DESCRIPTION:🌼 Wild Wednesdays: A Free Family Adventure at the Wildflower Center!\n📍 Location\nJoin us at the beautiful Wildflower Center\, nestled in the heart of Austin\, TX! 4801 La Crosse Ave.\nAustin\, TX 78739 \n💸 Cost & Registration Info\n\nAdmission: FREE on the last Wednesday of every month!\nReservations: Recommended! Book your spot online up to seven days in advance.\n\n🎈 What to Expect\n\n🌳 Nature Walks: Explore the stunning trails with your little explorers!\n🌼 Hands-On Activities: Get ready for crafts and fun nature-themed projects!\n🐦 Wildlife Spotting: Keep your eyes peeled for local critters and beautiful birds!\n🍃 Relaxation: Take a moment to breathe in the fresh air and enjoy the scenery.\n\n💡 Why Attend\n\n🌞 Family Bonding: Create unforgettable memories with your loved ones!\n🌎 Nature Appreciation: Teach your kids about the beauty and importance of nature!\n🎉 Community Fun: Meet other families and enjoy a day out in the sun!\n\nMark your calendars for June 25 and get ready for a fantastic day at the Wildflower Center! Enjoy the great outdoors while engaging in fun activities that your whole family will love! \nDon’t forget to reserve your spot and make the most of this wonderful opportunity to connect with nature. We can’t wait to see you there!
URL:https://austinfunforkids.com/event/free-wild-wednesdays-at-the-wildflower-center/2025-07-30/
LOCATION:Lady Bird Johnson Wildflower Center\, 4801 La Crosse Avenue\, Austin\, TX\, 78739.0\, United States
CATEGORIES:Free Event,Outdoor Fun,Parks
ATTACH;FMTTYPE=image/jpeg:https://austinfunforkids.com/wp-content/uploads/2025/05/kids-water-tico-mendoza-resized-1-1.jpeg
END:VEVENT
BEGIN:VEVENT
DTSTART;TZID=America/Chicago:20250608T100000
DTEND;TZID=America/Chicago:20250608T140000
DTSTAMP:20260419T081220
CREATED:20250530T164513Z
LAST-MODIFIED:20260216T150404Z
UID:10029908-1749376800-1749391200@austinfunforkids.com
SUMMARY:Discovery Day at the Wildflower Center
DESCRIPTION:💧 Discovery Day: Water – Make a Splash with Family Fun!\n📍 Location\nJoin us at the beautiful Wildflower Center in Austin\, TX\, for a day filled with water-themed adventures! 4801 La Crosse Ave. Austin\, TX 78739 \n💸 Cost & Registration Info\nIncluded with admission\, and guess what? It’s FREE for members! Dive into a day of exploration without breaking the bank! See website for admission prices. \n🎈 What to Expect\n\n🎭 Live Performances: Enjoy entertaining shows throughout the day!\n🎨 Hands-on Activities: Get ready to paint with mud and explore water science!\n🖼️ Creative Crafts: Make H2O-themed crafts to take home!\n📸 Classic Photo Spots: Capture memories at our fun photo booths!\n🌍 Water Conservation: Learn how to save our precious water resources!\n\n💡 Why Attend\n\n🌊 Explore Nature: Discover how water shapes Texas landscapes!\n🦖 Dinosaur Creek Adventures: Check out the waters and wildlife!\n👨‍👩‍👧‍👦 Family Bonding: Perfect for curious minds of all ages!\n🍦 Food & Refreshments: Savor local bites and cool treats!\n\n🎉 Join the Celebration!\nGather your family and make a splash at Discovery Day: Water! With engaging activities\, captivating performances\, and the chance to learn about our environment\, it’s a day filled with fun and knowledge. Don’t miss out on this fantastic opportunity to connect with nature!
URL:https://austinfunforkids.com/event/discovery-day-at-the-wildflower-center/
LOCATION:Lady Bird Johnson Wildflower Center\, 4801 La Crosse Avenue\, Austin\, TX\, 78739.0\, United States
CATEGORIES:Free Event,Kids Eat Free,Outdoor Fun,Workshops
ATTACH;FMTTYPE=image/jpeg:https://austinfunforkids.com/wp-content/uploads/2025/05/kids-water-tico-mendoza-resized-1.jpeg
END:VEVENT
BEGIN:VEVENT
DTSTART;TZID=America/Chicago:20250511T103000
DTEND;TZID=America/Chicago:20250511T113000
DTSTAMP:20260419T081220
CREATED:20250303T190148Z
LAST-MODIFIED:20260126T015652Z
UID:10029860-1746959400-1746963000@austinfunforkids.com
SUMMARY:Family Yoga with ATX Yoga Girl
DESCRIPTION:🧘‍♀️ Family Yoga with ATX Yoga Girl: Connect\, Move\, and Play Together!\n📍 Location\nJoin us at the Wildflower Center every second Sunday at 10:30 AM! \n💸 Cost & Registration Info\nThis delightful 45-minute family yoga class is totally free! Just grab your mat\, and let the fun begin! \n🎈 What to Expect\n\n🎶 Mindful Movement: Experience the joy of yoga as a family with movement that engages everyone!\n📖 Storytelling: Each session weaves in stories that spark imagination and creativity.\n🎵 Music: Enjoy a musical journey that makes yoga fun and memorable.\n🧘‍♂️ Mindfulness & Meditation: Learn calming techniques that can be used at home!\n🌈 Sound Healing: Experience the soothing sounds that elevate your yoga practice.\n\n💡 Why Attend\n\n❤️ Family Bonding: Strengthen connections in a playful environment!\n🌟 All Ages Welcome: Perfect for families with kids of all ages!\n🌀 Holistic Health: Foster mindfulness and well-being for the whole family.\n🤗 Fun & Engaging: Classes are designed to keep everyone active and entertained!\n\n🎉 Join the Celebration\nDon’t miss out on this wonderful opportunity to connect with your family through yoga! With ATX Yoga Girl\, Cynthia Aguillón Bernard\, you’ll create lasting memories while nurturing your mind\, body\, and spirit. Grab your yoga mats and get ready for a joyful journey every second Sunday! \nCheck out other free events happening in March!
URL:https://austinfunforkids.com/event/family-yoga-with-atx-yoga-girl/2025-05-11/
LOCATION:Lady Bird Johnson Wildflower Center\, 4801 La Crosse Avenue\, Austin\, TX\, 78739.0\, United States
CATEGORIES:Free Event,Outdoor Fun,Workshops
ATTACH;FMTTYPE=image/jpeg:https://austinfunforkids.com/wp-content/uploads/2025/03/image6.jpg
END:VEVENT
END:VCALENDAR