BEGIN:VCALENDAR
VERSION:2.0
PRODID:-//Austin Fun for Kids - ECPv6.15.20//NONSGML v1.0//EN
CALSCALE:GREGORIAN
METHOD:PUBLISH
X-ORIGINAL-URL:https://austinfunforkids.com
X-WR-CALDESC:Events for Austin Fun for Kids
REFRESH-INTERVAL;VALUE=DURATION:PT1H
X-Robots-Tag:noindex
X-PUBLISHED-TTL:PT1H
BEGIN:VTIMEZONE
TZID:America/Chicago
BEGIN:DAYLIGHT
TZOFFSETFROM:-0600
TZOFFSETTO:-0500
TZNAME:CDT
DTSTART:20240310T080000
END:DAYLIGHT
BEGIN:STANDARD
TZOFFSETFROM:-0500
TZOFFSETTO:-0600
TZNAME:CST
DTSTART:20241103T070000
END:STANDARD
BEGIN:DAYLIGHT
TZOFFSETFROM:-0600
TZOFFSETTO:-0500
TZNAME:CDT
DTSTART:20250309T080000
END:DAYLIGHT
BEGIN:STANDARD
TZOFFSETFROM:-0500
TZOFFSETTO:-0600
TZNAME:CST
DTSTART:20251102T070000
END:STANDARD
BEGIN:DAYLIGHT
TZOFFSETFROM:-0600
TZOFFSETTO:-0500
TZNAME:CDT
DTSTART:20260308T080000
END:DAYLIGHT
BEGIN:STANDARD
TZOFFSETFROM:-0500
TZOFFSETTO:-0600
TZNAME:CST
DTSTART:20261101T070000
END:STANDARD
BEGIN:DAYLIGHT
TZOFFSETFROM:-0600
TZOFFSETTO:-0500
TZNAME:CDT
DTSTART:20270314T080000
END:DAYLIGHT
BEGIN:STANDARD
TZOFFSETFROM:-0500
TZOFFSETTO:-0600
TZNAME:CST
DTSTART:20271107T070000
END:STANDARD
END:VTIMEZONE
BEGIN:VEVENT
DTSTART;TZID=America/Chicago:20260328T100000
DTEND;TZID=America/Chicago:20260328T110000
DTSTAMP:20260419T130528
CREATED:20260301T150845Z
LAST-MODIFIED:20260301T150845Z
UID:10033546-1774692000-1774695600@austinfunforkids.com
SUMMARY:Art In the Park
DESCRIPTION:It’s time to get crafty in the park! Art in the Park is a fun\, inclusive event series designed to get your creative juices flowing. With events for kids and adults – there’s something for everyone. Enjoy creating fun nature-inspired art projects with our friends from Painting Pandas while spending time outdoors in your favorite parks!
URL:https://austinfunforkids.com/event/art-in-the-park-2/
LOCATION:Mary Moore Searight Metropolitan Park\, 907 West Slaughter Lane\, Austin\, TX\, 78748.0\, United States
END:VEVENT
BEGIN:VEVENT
DTSTART;TZID=America/Chicago:20250906T100000
DTEND;TZID=America/Chicago:20250906T110000
DTSTAMP:20260419T130528
CREATED:20250902T034542Z
LAST-MODIFIED:20260216T040230Z
UID:10029965-1757152800-1757156400@austinfunforkids.com
SUMMARY:Art in the Park at Mary Moore Searight
DESCRIPTION:🎨 Art in the Park Mary Moore Searight: Nature-Inspired Crafts & Outdoor Fun!\n📍 Location\n\nVenue: Mary Moore Searight Metropolitan Park\nAddress: 907 West Slaughter Lane\, Austin\, TX 78748\nDate & Time: September 6\, 2025\, 10:00 am – 11:00 am\n\n💸 Cost & Registration Info\n\nCost: Free!\nRegistration: Drop-in\, no sign-up required\n\n🎈 What to Expect\n\n🖌️ Fun\, nature-inspired art projects led by Painting Pandas!\n🎨 Creative stations for kids and grown-ups—mix and match materials.\n🌳 Outdoor vibes: fresh air\, shade\, and family-friendly atmosphere.\n\n💡 Why Attend\n\n✨ Spark your family’s creativity with hands-on crafting.\n🏞️ Enjoy the beautiful green spaces of Mary Moore Searight Park.\n🤝 Connect with other Austin moms and art enthusiasts.\n\n🎉 Join the Crafty Celebration!\nArt in the Park Mary Moore Searight is the perfect excuse to unplug\, get messy\, and make colorful memories with your mini artists. \nGrab your little Picassos and head to this free outdoor event for a morning of artistic fun. We can’t wait to see your creations under the Texas sun!
URL:https://austinfunforkids.com/event/art-in-the-park-at-mary-moore-searight/
LOCATION:Mary Moore Searight Metropolitan Park\, 907 West Slaughter Lane\, Austin\, TX\, 78748.0\, United States
CATEGORIES:Free Event,Outdoor Fun,Parks
ATTACH;FMTTYPE=image/jpeg:https://austinfunforkids.com/wp-content/uploads/2025/09/Art-in-the-park.jpg
END:VEVENT
END:VCALENDAR