BEGIN:VCALENDAR
VERSION:2.0
PRODID:-//Austin Fun for Kids - ECPv6.15.20//NONSGML v1.0//EN
CALSCALE:GREGORIAN
METHOD:PUBLISH
X-WR-CALNAME:Austin Fun for Kids
X-ORIGINAL-URL:https://austinfunforkids.com
X-WR-CALDESC:Events for Austin Fun for Kids
REFRESH-INTERVAL;VALUE=DURATION:PT1H
X-Robots-Tag:noindex
X-PUBLISHED-TTL:PT1H
BEGIN:VTIMEZONE
TZID:America/Chicago
BEGIN:DAYLIGHT
TZOFFSETFROM:-0600
TZOFFSETTO:-0500
TZNAME:CDT
DTSTART:20240310T080000
END:DAYLIGHT
BEGIN:STANDARD
TZOFFSETFROM:-0500
TZOFFSETTO:-0600
TZNAME:CST
DTSTART:20241103T070000
END:STANDARD
BEGIN:DAYLIGHT
TZOFFSETFROM:-0600
TZOFFSETTO:-0500
TZNAME:CDT
DTSTART:20250309T080000
END:DAYLIGHT
BEGIN:STANDARD
TZOFFSETFROM:-0500
TZOFFSETTO:-0600
TZNAME:CST
DTSTART:20251102T070000
END:STANDARD
BEGIN:DAYLIGHT
TZOFFSETFROM:-0600
TZOFFSETTO:-0500
TZNAME:CDT
DTSTART:20260308T080000
END:DAYLIGHT
BEGIN:STANDARD
TZOFFSETFROM:-0500
TZOFFSETTO:-0600
TZNAME:CST
DTSTART:20261101T070000
END:STANDARD
END:VTIMEZONE
BEGIN:VEVENT
DTSTART;TZID=America/Chicago:20250427T100000
DTEND;TZID=America/Chicago:20250427T130000
DTSTAMP:20260419T143647
CREATED:20250306T193635Z
LAST-MODIFIED:20260126T015652Z
UID:10032151-1745748000-1745758800@austinfunforkids.com
SUMMARY:Old Settler’s Music Festival
DESCRIPTION:🎶 Old Settler’s Music Festival: A Family-Friendly Musical Extravaganza in Central Texas! 🎉\n📍 Location\nJoin us for the 38th Annual Old Settler’s Music Festival from April 24-27\, 2025\, just 45 minutes south of Austin\, Texas\, at the beautiful 145-acre ranch located at 1616 FM 3158\, Dale\, Texas 78616. \n💸 Cost & Registration Info\n\nSingle-Day Tickets: Now available at oldsettlersmusicfest.org!\nKids 12 and Under: Only $5!\nVIP Tickets: Get the ultimate festival experience!\n\n🎈 What to Expect\n\n🎤 **Amazing Lineup:** Enjoy performances from local legends and national stars like Sister Sadie\, Yonder Mountain String Band\, and Sierra Hull!\n🎶 **Music Galore:** Four days filled with bluegrass\, folk\, and Americana tunes that will have your toes tapping!\n🌟 **Family Fun:** Kid’s activities\, food trucks\, and a welcoming community vibe await you!\n🏕️ **Camping Options:** Choose from partially electrified campgrounds or nearby hotels and Airbnb’s.\n\n💡 Why Attend\n\n❤️ **Community Spirit:** Connect with other music lovers and foster family memories that will last a lifetime.\n🌈 **Support Local Talent:** Cheer on up-and-coming artists and established favorites in a stunning outdoor setting.\n🎉 **Unique Experiences:** Participate in the Youth Talent competition for a chance to shine on stage in 2026!\n\n🎊 Join the Celebration!\nDon’t miss out on this incredible festival that’s rich in history and bursting with talent! Gather your family\, pack your picnic blankets\, and get ready for a weekend of unforgettable music and joy at the Old Settler’s Music Festival! \nMore about the Old Settler’s Music Festival\nAs a 501(c)(3) nonprofit organization\, the mission of Old Settler’s Music Festival\, Inc. is to bring a legacy of American roots music to a new age of listeners while preserving the music and a strong culture of family\, friends\, and community.  \nFor 38 years and counting\, Old Settler’s Music Festival brings Americana and roots music lovers together for camping\, community\, and celebration each spring.  As one of Central Texas’ signature music events\, our festival features Americana music — roots\, folk\, acoustic\, blues\, bluegrass\, singer-songwriter\, gospel\, country — from local favorites and award-winning artists from around the world. \nOur campgrounds provide acres of tree-covered grounds for gathering\, camping\, and late-night jams by the campfire. Arts and crafts\, kids activities\, workshops\, delicious food\, and ice-cold local libations round out the magical experience. \nVisit oldsettlersmusicfest.org for tickets and more information!
URL:https://austinfunforkids.com/event/old-settlers-music-festival/2025-04-27/
LOCATION:Old Settler’s Music Festival\, Camp Ben McCulloch\, Austin\, TX\, 78737.0\, United States
CATEGORIES:Festivals,Live Music,Outdoor Fun
ATTACH;FMTTYPE=image/jpeg:https://austinfunforkids.com/wp-content/uploads/2025/03/1200-x-1200-SQUARE-Full-Announce-OSMF-2025.jpg
END:VEVENT
END:VCALENDAR