BEGIN:VCALENDAR
VERSION:2.0
PRODID:-//Austin Fun for Kids - ECPv6.15.20//NONSGML v1.0//EN
CALSCALE:GREGORIAN
METHOD:PUBLISH
X-ORIGINAL-URL:https://austinfunforkids.com
X-WR-CALDESC:Events for Austin Fun for Kids
REFRESH-INTERVAL;VALUE=DURATION:PT1H
X-Robots-Tag:noindex
X-PUBLISHED-TTL:PT1H
BEGIN:VTIMEZONE
TZID:America/Chicago
BEGIN:DAYLIGHT
TZOFFSETFROM:-0600
TZOFFSETTO:-0500
TZNAME:CDT
DTSTART:20240310T080000
END:DAYLIGHT
BEGIN:STANDARD
TZOFFSETFROM:-0500
TZOFFSETTO:-0600
TZNAME:CST
DTSTART:20241103T070000
END:STANDARD
BEGIN:DAYLIGHT
TZOFFSETFROM:-0600
TZOFFSETTO:-0500
TZNAME:CDT
DTSTART:20250309T080000
END:DAYLIGHT
BEGIN:STANDARD
TZOFFSETFROM:-0500
TZOFFSETTO:-0600
TZNAME:CST
DTSTART:20251102T070000
END:STANDARD
BEGIN:DAYLIGHT
TZOFFSETFROM:-0600
TZOFFSETTO:-0500
TZNAME:CDT
DTSTART:20260308T080000
END:DAYLIGHT
BEGIN:STANDARD
TZOFFSETFROM:-0500
TZOFFSETTO:-0600
TZNAME:CST
DTSTART:20261101T070000
END:STANDARD
BEGIN:DAYLIGHT
TZOFFSETFROM:-0600
TZOFFSETTO:-0500
TZNAME:CDT
DTSTART:20270314T080000
END:DAYLIGHT
BEGIN:STANDARD
TZOFFSETFROM:-0500
TZOFFSETTO:-0600
TZNAME:CST
DTSTART:20271107T070000
END:STANDARD
END:VTIMEZONE
BEGIN:VEVENT
DTSTART;TZID=America/Chicago:20260307T100000
DTEND;TZID=America/Chicago:20260307T120000
DTSTAMP:20260419T130549
CREATED:20260214T151338Z
LAST-MODIFIED:20260214T151338Z
UID:10032154-1772877600-1772884800@austinfunforkids.com
SUMMARY:Community Creek Cleanup
DESCRIPTION:Join us for a community creek cleanup in Onion Creek Metropolitan Park! We need volunteers of all ages to help remove trash from in and around Onion Creek—an area with significant impact on the Texas Colorado River and our drinking water. \nReserve your spot now to help keep our local freshwater sources healthy and clean for generations to come! Looking forward to rolling up our sleeves together.
URL:https://austinfunforkids.com/event/community-creek-cleanup/
LOCATION:Onion Creek Metropolitan Park\, 8652 Nuckols Crossing Road\, Austin\, TX\, 78744.0\, United States
CATEGORIES:Free Event,Outdoor Fun,Parks
ATTACH;FMTTYPE=image/jpeg:https://austinfunforkids.com/wp-content/uploads/2026/02/Community-Creek-Cleanup.jpg
END:VEVENT
BEGIN:VEVENT
DTSTART;TZID=America/Chicago:20250924T100000
DTEND;TZID=America/Chicago:20250924T110000
DTSTAMP:20260419T130549
CREATED:20250903T233755Z
LAST-MODIFIED:20260216T041300Z
UID:10029976-1758708000-1758711600@austinfunforkids.com
SUMMARY:Art in the Park: Onion Creek Greenbelt
DESCRIPTION:🎨 Art in the Park: Onion Creek Greenbelt – Get Crafty in the Wild!\nArt in the Park at Onion Creek Greenbelt\nGet ready\, mamas—Art in the Park Onion Creek is rolling into the Onion Creek Greenbelt on September 24! Paint\, mold\, and create inspired by nature while soaking up that fresh park air. It’s a 60-minute crafting spree with Painting Pandas that’s perfect for kiddos and grown-ups alike! \n📍 Location\n\nPark: Onion Creek Greenbelt Trailhead\nAddress: 7001 Onion Creek Dr\, Austin\, TX 78744\n\n💸 Cost & Registration Info\n\nCost: Free for all ages\nDate & Time: Sep 24\, 2025 | 10:00 am – 11:00 am\nRegistration: No signup required—just bring your creativity!\n\n🎈 What to Expect\n\n🖌️ Hands-on art projects inspired by the beauty of Onion Creek Greenbelt.\n🐼 Guided painting sessions with friendly pros from Painting Pandas.\n🌳 Outdoor fun that lets littles and parents bond over color and nature!\n\n💡 Why Attend\n\n✨ Spark your child’s imagination in a vibrant\, open-air studio—no walls required!\n👩‍🎨 Get pro tips from Painting Pandas and watch your mini artists shine.\n🌿 Enjoy fresh air\, sunshine\, and creative vibes with other Austin families.\n\n🥳 Join the Celebration\nGrab your picnic blanket and favorite snacks\, and get ready to let those little Picasso’s loose! 🌞 Don’t miss this chance to mix art with nature for memories that stick like paint on canvas. \nSee you by the creek for crafts\, smiles\, and all-around good vibes. Let’s make magic at Art in the Park Onion Creek!
URL:https://austinfunforkids.com/event/art-in-the-park-onion-creek-greenbelt/
LOCATION:Onion Creek Metropolitan Park\, 8652 Nuckols Crossing Road\, Austin\, TX\, 78744.0\, United States
CATEGORIES:Free Event,Outdoor Fun,Parks,Workshops
ATTACH;FMTTYPE=image/jpeg:https://austinfunforkids.com/wp-content/uploads/2025/09/Art-in-the-park-1.jpg
END:VEVENT
END:VCALENDAR