BEGIN:VCALENDAR
VERSION:2.0
PRODID:-//Austin Fun for Kids - ECPv6.15.20//NONSGML v1.0//EN
CALSCALE:GREGORIAN
METHOD:PUBLISH
X-WR-CALNAME:Austin Fun for Kids
X-ORIGINAL-URL:https://austinfunforkids.com
X-WR-CALDESC:Events for Austin Fun for Kids
REFRESH-INTERVAL;VALUE=DURATION:PT1H
X-Robots-Tag:noindex
X-PUBLISHED-TTL:PT1H
BEGIN:VTIMEZONE
TZID:America/Chicago
BEGIN:DAYLIGHT
TZOFFSETFROM:-0600
TZOFFSETTO:-0500
TZNAME:CDT
DTSTART:20240310T080000
END:DAYLIGHT
BEGIN:STANDARD
TZOFFSETFROM:-0500
TZOFFSETTO:-0600
TZNAME:CST
DTSTART:20241103T070000
END:STANDARD
BEGIN:DAYLIGHT
TZOFFSETFROM:-0600
TZOFFSETTO:-0500
TZNAME:CDT
DTSTART:20250309T080000
END:DAYLIGHT
BEGIN:STANDARD
TZOFFSETFROM:-0500
TZOFFSETTO:-0600
TZNAME:CST
DTSTART:20251102T070000
END:STANDARD
BEGIN:DAYLIGHT
TZOFFSETFROM:-0600
TZOFFSETTO:-0500
TZNAME:CDT
DTSTART:20260308T080000
END:DAYLIGHT
BEGIN:STANDARD
TZOFFSETFROM:-0500
TZOFFSETTO:-0600
TZNAME:CST
DTSTART:20261101T070000
END:STANDARD
END:VTIMEZONE
BEGIN:VEVENT
DTSTART;TZID=America/Chicago:20250823T100000
DTEND;TZID=America/Chicago:20250824T160000
DTSTAMP:20260419T184132
CREATED:20250701T010930Z
LAST-MODIFIED:20260126T015737Z
UID:10029934-1755943200-1756051200@austinfunforkids.com
SUMMARY:Austin Train Show
DESCRIPTION:Over 25\,000 square feet of railroading fun for the whole family!\nVendors\, model and Lego railroads\, clinics\, train ride for the kids\, home layout tour included. \nSaturday Aug 23\, 2025 10am-5pm\,\nSunday Aug 24\, 2025 10am-4pm.\nAdmission $8 in advance or $10 at the door (includes both days\, children 12 and under FREE).\nTickets on sale July 1 at https://austintrainshow.org \nFor more information\, visit https://austintrainshow.org or email us at info@austintrainshow.org
URL:https://austinfunforkids.com/event/austin-train-show/
LOCATION:Palmer Events Center\, 900 Barton Springs Road\, Austin\, TX\, 78704.0\, United States
CATEGORIES:Indoor Fun
ATTACH;FMTTYPE=image/jpeg:https://austinfunforkids.com/wp-content/uploads/2025/06/trainshow2.jpg
ORGANIZER;CN="Austin Model Railway Society":MAILTO:info@austintrainshow.org
END:VEVENT
END:VCALENDAR