BEGIN:VCALENDAR
VERSION:2.0
PRODID:-//Austin Fun for Kids - ECPv6.15.20//NONSGML v1.0//EN
CALSCALE:GREGORIAN
METHOD:PUBLISH
X-WR-CALNAME:Austin Fun for Kids
X-ORIGINAL-URL:https://austinfunforkids.com
X-WR-CALDESC:Events for Austin Fun for Kids
REFRESH-INTERVAL;VALUE=DURATION:PT1H
X-Robots-Tag:noindex
X-PUBLISHED-TTL:PT1H
BEGIN:VTIMEZONE
TZID:America/Chicago
BEGIN:DAYLIGHT
TZOFFSETFROM:-0600
TZOFFSETTO:-0500
TZNAME:CDT
DTSTART:20240310T080000
END:DAYLIGHT
BEGIN:STANDARD
TZOFFSETFROM:-0500
TZOFFSETTO:-0600
TZNAME:CST
DTSTART:20241103T070000
END:STANDARD
BEGIN:DAYLIGHT
TZOFFSETFROM:-0600
TZOFFSETTO:-0500
TZNAME:CDT
DTSTART:20250309T080000
END:DAYLIGHT
BEGIN:STANDARD
TZOFFSETFROM:-0500
TZOFFSETTO:-0600
TZNAME:CST
DTSTART:20251102T070000
END:STANDARD
BEGIN:DAYLIGHT
TZOFFSETFROM:-0600
TZOFFSETTO:-0500
TZNAME:CDT
DTSTART:20260308T080000
END:DAYLIGHT
BEGIN:STANDARD
TZOFFSETFROM:-0500
TZOFFSETTO:-0600
TZNAME:CST
DTSTART:20261101T070000
END:STANDARD
END:VTIMEZONE
BEGIN:VEVENT
DTSTART;TZID=America/Chicago:20250927T100000
DTEND;TZID=America/Chicago:20250927T140000
DTSTAMP:20260419T155137
CREATED:20250710T213110Z
LAST-MODIFIED:20260126T015742Z
UID:10029938-1758967200-1758981600@austinfunforkids.com
SUMMARY:Touch A Truck
DESCRIPTION:Saturday\, September 27th 10am-2pm at Q2 Stadium (10414 McKalla Place\, Austin\, TX 78758)\n\nVIP Hour: 9am-10am\nVIP Tickets: $50\nIncludes early entry\, coffee and a breakfast taco (available between 9-10 am)\, and access to an air-conditioned VIP section all day (subject to availability).\n\nGeneral Admission: 10am-2pm\nEARLY BIRD General Admission Tickets: $15\nGA tickets are for adults and children 3 years or older. ALL Children 2 and under will not require a ticket to enter.\nDAY OF General Admission Tickets: $20\n\nEvent description: Touch-a-Truck is a family-friendly event that hosts a wide variety of vehicles for kids of all ages touch\, climb\, and explore! Touch-a-Truck also features bouncy houses\, concessions\, arts and crafts\, picnic spaces\, performances by La Murga\, and more! Your ticket purchase directly supports SAFE’s mission to provide life-saving services for survivors of child abuse\, domestic violence\, sexual assault\, and sex trafficking. Join us and help make Austin a safer place for all families!
URL:https://austinfunforkids.com/event/touch-a-truck/
LOCATION:Q2 Stadium\, 10414 Mc Kalla Place\, Austin\, TX\, 78758.0\, United States
ATTACH;FMTTYPE=image/jpeg:https://austinfunforkids.com/wp-content/uploads/2025/07/IMG_0169-scaled.jpeg
END:VEVENT
END:VCALENDAR