BEGIN:VCALENDAR
VERSION:2.0
PRODID:-//Austin Fun for Kids - ECPv6.15.20//NONSGML v1.0//EN
CALSCALE:GREGORIAN
METHOD:PUBLISH
X-WR-CALNAME:Austin Fun for Kids
X-ORIGINAL-URL:https://austinfunforkids.com
X-WR-CALDESC:Events for Austin Fun for Kids
REFRESH-INTERVAL;VALUE=DURATION:PT1H
X-Robots-Tag:noindex
X-PUBLISHED-TTL:PT1H
BEGIN:VTIMEZONE
TZID:America/Chicago
BEGIN:DAYLIGHT
TZOFFSETFROM:-0600
TZOFFSETTO:-0500
TZNAME:CDT
DTSTART:20240310T080000
END:DAYLIGHT
BEGIN:STANDARD
TZOFFSETFROM:-0500
TZOFFSETTO:-0600
TZNAME:CST
DTSTART:20241103T070000
END:STANDARD
BEGIN:DAYLIGHT
TZOFFSETFROM:-0600
TZOFFSETTO:-0500
TZNAME:CDT
DTSTART:20250309T080000
END:DAYLIGHT
BEGIN:STANDARD
TZOFFSETFROM:-0500
TZOFFSETTO:-0600
TZNAME:CST
DTSTART:20251102T070000
END:STANDARD
BEGIN:DAYLIGHT
TZOFFSETFROM:-0600
TZOFFSETTO:-0500
TZNAME:CDT
DTSTART:20260308T080000
END:DAYLIGHT
BEGIN:STANDARD
TZOFFSETFROM:-0500
TZOFFSETTO:-0600
TZNAME:CST
DTSTART:20261101T070000
END:STANDARD
END:VTIMEZONE
BEGIN:VEVENT
DTSTART;TZID=America/Chicago:20250905T203000
DTEND;TZID=America/Chicago:20250912T230000
DTSTAMP:20260419T160615
CREATED:20250901T012910Z
LAST-MODIFIED:20260216T035926Z
UID:10029962-1757104200-1757718000@austinfunforkids.com
SUMMARY:9/11 Memorial at Flag Plaza at Yonders Point
DESCRIPTION:🇺🇸 9/11 Memorial at Flag Plaza at Yonders Point: A Heartfelt Family Tribute in Old Settlers Park!\n📍 Location\n\nWhere: Flag Plaza at Yonders Point\, Old Settlers Park (3103 Aten Loop\, Round Rock)\n\n💸 Cost & Registration Info\n\nCost: Free for all — bring your heart and your little ones!\nRegistration: No sign-up needed; families and friends are welcome to wander in any time.\n\n🎈 What to Expect\n\n🇺🇸 A sea of 2\,977 flags honoring every American life lost on 9/11 and 1\,023 flags remembering Texans lost since.\n📸 Perfect photo moments for your kiddos — capture heartfelt snaps by waving flags.\n🗣️ Gentle family conversations about freedom\, bravery\, and gratitude during reflection time.\n🤝 Community unity as neighbors come together to remember and teach the next generation.\n\n💡 Why Attend\n\n❤️ Connect with your family through meaningful reflection on our nation’s heroes.\n📚 Teach children about the importance of freedom\, service\, and remembrance.\n🌟 Inspire gratitude as you honor both national and Texan lives lost.\n\n🤝 Join the Tribute\n\nDate & Time: Friday\, September 5 (7:30 pm) through Thursday\, September 12 (11:00 pm)\nPresented by: The Texas Fallen Project\, Inc.\nRemember to Bring: Comfortable shoes\, tissues for reflective moments\, and your most thoughtful questions for curious minds.\n\nMark your calendars\, gather your kiddos\, and step into Old Settlers Park to honor freedom and remembrance. Feel the power of community and gratitude wrapped in every fluttering flag. Don’t miss the 9/11 Memorial at Flag Plaza at Yonders Point — a touching experience families will cherish.
URL:https://austinfunforkids.com/event/9-11-memorial-at-flag-plaza-at-yonders-point/
LOCATION:Yonders Point\, 3103 Aten Loop\, Round Rock\, TX\, 78665.0\, United States
CATEGORIES:Free Event,Outdoor Fun,Parks
ATTACH;FMTTYPE=image/jpeg:https://austinfunforkids.com/wp-content/uploads/2025/08/9.11-Memorial-Image2-2048x1368-1.jpg
END:VEVENT
BEGIN:VEVENT
DTSTART;TZID=America/Chicago:20250822T193000
DTEND;TZID=America/Chicago:20250822T220000
DTSTAMP:20260419T160615
CREATED:20250616T184153Z
LAST-MODIFIED:20260216T152859Z
UID:10031794-1755891000-1755900000@austinfunforkids.com
SUMMARY:Friday Fun Nights at Yonders Point- Round Rock
DESCRIPTION:🎉 Friday Fun Nights at Yonders Point: A Summer Spectacle for the Whole Family!\n📍 Location\nJoin us at Yonders Point\, nestled in the heart of Old Settlers Park\, located at 3103 Aten Loop. This beautiful spot offers stunning views of Bright Lake and a perfect backdrop for family fun! \n💸 Cost & Registration Info\nGuess what? It’s absolutely FREE! Just bring your family\, your picnic blanket\, and your excitement for a night filled with themed activities! \n🎈 What to Expect\n\n🍕 Pizza Party: Kick off the fun on May 23rd with a slice of cheesy goodness!\n🎸 Beatle Mania: Get ready to twist and shout on June 27th with some fab tunes!\n🌺 Tx Luau: On July 25th\, wear your best Hawaiian shirt and join the tropical fun!\n🎉 GIANT Park Play Palooza: End the summer with a bang on August 22nd—fun for all ages!\n\n💡 Why Attend\n\n👨‍👩‍👧‍👦 Family Bonding: Create unforgettable memories with your loved ones!\n🌳 Stunning Scenery: Enjoy the lush landscapes and relaxing atmosphere of Yonders Point!\n🎊 Community Spirit: Connect with other families in our wonderful Round Rock community!\n\n🎈 Join the Celebration!\nMark your calendars and don’t miss out on the most fun-filled Fridays of the summer at Yonders Point! Bring your family\, your friends\, and your sense of adventure for a night of laughter\, games\, and great memories! \nLet’s make this summer one to remember! We can’t wait to see you at Yonders Point for Friday Fun Nights!
URL:https://austinfunforkids.com/event/friday-fun-nights-at-yonders-point-round-rock/2025-08-22/
LOCATION:Yonders Point\, 3103 Aten Loop\, Round Rock\, TX\, 78665.0\, United States
CATEGORIES:Free Event,Outdoor Fun
ATTACH;FMTTYPE=image/webp:https://austinfunforkids.com/wp-content/uploads/2025/06/Yonders-FFN-1-1-1536x1187-1.webp
END:VEVENT
END:VCALENDAR